BEGIN:VCALENDAR
VERSION:2.0
PRODID:icalendar-ruby
CALSCALE:GREGORIAN
METHOD:PUBLISH
BEGIN:VEVENT
DTSTAMP:20260419T153957Z
UID:1c2f3451-b5ff-4013-a70b-b6576ab5cb41
DTSTART:20230729T140000
DTEND:20230730T120000
DESCRIPTION:<p>Buses Oficiales Monegros Desert Festival 2023-</p>
LOCATION:NACIONAL II\, KM416\, FRAGA\, HUESCA\, 22520
SUMMARY:Buses Oficiales Monegros Desert Festival 2023-
URL;VALUE=URI:https://monegrosfestival.howler.co.za/mdf2023bus2
END:VEVENT
END:VCALENDAR
