BEGIN:VCALENDAR
VERSION:2.0
PRODID:icalendar-ruby
CALSCALE:GREGORIAN
METHOD:PUBLISH
BEGIN:VEVENT
DTSTAMP:20260424T170314Z
UID:90a25de9-6878-4c26-ae40-5a1471c8352a
DTSTART:20240727T140000
DTEND:20240728T120000
DESCRIPTION:Buses Oficiales Monegros Desert Festival 2024
LOCATION:NACIONAL II\, KM416\, FRAGA\, HUESCA\, 22520
SUMMARY:Buses Oficiales Monegros Desert Festival 2024
URL;VALUE=URI:https://monegrosfestival.howler.co.za/mdf24bus
END:VEVENT
END:VCALENDAR
